BEGIN:VCALENDAR
VERSION:2.0
PRODID:-//ddaysoftware.com//NONSGML DDay.iCal 1.0//EN
BEGIN:VTIMEZONE
TZID:W. Europe Standard Time
BEGIN:STANDARD
DTSTART:20251002T030000
RRULE:FREQ=YEARLY;BYDAY=-1SU;BYHOUR=3;BYMINUTE=0;BYMONTH=10
TZNAME:Mitteleuropäische Zeit
TZOFFSETFROM:+0200
TZOFFSETTO:+0100
END:STANDARD
BEGIN:DAYLIGHT
DTSTART:20250301T020000
RRULE:FREQ=YEARLY;BYDAY=-1SU;BYHOUR=2;BYMINUTE=0;BYMONTH=3
TZNAME:Mitteleuropäische Sommerzeit
TZOFFSETFROM:+0100
TZOFFSETTO:+0200
END:DAYLIGHT
END:VTIMEZONE
BEGIN:VEVENT
CATEGORIES:Blutspende
DESCRIPTION:\n\nVeranstalter: Blutspendedienst des Bayer. Roten Kreuzes\n\n
 https://www.kleinwallstadt.de/vereine-freizeit-und-tourismus/veranstaltung
 en/blutspende-17/
DTEND:20260423T180000
DTSTAMP:20260421T123412Z
DTSTART:20260423T170000
LOCATION:Josef-Anton-Rohe Grund-u. Mittelschule: Weibersweg 22\, 63839 Klei
 nwallstadt
SEQUENCE:0
SUMMARY:Blutspende
UID:198718
URL:https://www.kleinwallstadt.de/vereine-freizeit-und-tourismus/veranstalt
 ungen/blutspende-17/
END:VEVENT
END:VCALENDAR
