BEGIN:VCALENDAR
VERSION:2.0
PRODID:-//ddaysoftware.com//NONSGML DDay.iCal 1.0//EN
BEGIN:VTIMEZONE
TZID:W. Europe Standard Time
BEGIN:STANDARD
DTSTART:20251002T030000
RRULE:FREQ=YEARLY;BYDAY=-1SU;BYHOUR=3;BYMINUTE=0;BYMONTH=10
TZNAME:Mitteleuropäische Zeit
TZOFFSETFROM:+0200
TZOFFSETTO:+0100
END:STANDARD
BEGIN:DAYLIGHT
DTSTART:20250301T020000
RRULE:FREQ=YEARLY;BYDAY=-1SU;BYHOUR=2;BYMINUTE=0;BYMONTH=3
TZNAME:Mitteleuropäische Sommerzeit
TZOFFSETFROM:+0100
TZOFFSETTO:+0200
END:DAYLIGHT
END:VTIMEZONE
BEGIN:VEVENT
CATEGORIES:Fest\, Kulinarisches
DESCRIPTION:\n\nVeranstalter: DJK Kleinwallstadt\n\nhttps://www.kleinwallst
 adt.de/vereine-freizeit-und-tourismus/veranstaltungen/djk-bootshausfest/
DTEND:20260720T000000
DTSTAMP:20260420T145126Z
DTSTART;VALUE=DATE:20260718
LOCATION:Bootshaus in der Rohestraße: Rohestraße\, 63839 Kleinwallstadt
SEQUENCE:0
SUMMARY:DJK: Bootshausfest
UID:194633
URL:https://www.kleinwallstadt.de/vereine-freizeit-und-tourismus/veranstalt
 ungen/djk-bootshausfest/
END:VEVENT
END:VCALENDAR
