BEGIN:VCALENDAR
VERSION:2.0
PRODID:-//ddaysoftware.com//NONSGML DDay.iCal 1.0//EN
BEGIN:VTIMEZONE
TZID:W. Europe Standard Time
BEGIN:STANDARD
DTSTART:20251002T030000
RRULE:FREQ=YEARLY;BYDAY=-1SU;BYHOUR=3;BYMINUTE=0;BYMONTH=10
TZNAME:Mitteleuropäische Zeit
TZOFFSETFROM:+0200
TZOFFSETTO:+0100
END:STANDARD
BEGIN:DAYLIGHT
DTSTART:20250301T020000
RRULE:FREQ=YEARLY;BYDAY=-1SU;BYHOUR=2;BYMINUTE=0;BYMONTH=3
TZNAME:Mitteleuropäische Sommerzeit
TZOFFSETFROM:+0100
TZOFFSETTO:+0200
END:DAYLIGHT
END:VTIMEZONE
BEGIN:VEVENT
CATEGORIES:Fest\, Kulinarisches
DESCRIPTION:\n\nVeranstalter: Freiwillige Feuerwehr Kleinwallstadt\n\nhttps
 ://www.kleinwallstadt.de/vereine-freizeit-und-tourismus/veranstaltungen/ff
 w-klw-jubilaeumsfeier-150-jahre/
DTEND:20260705T000000
DTSTAMP:20260420T052353Z
DTSTART;VALUE=DATE:20260703
LOCATION:Feuerwehrhaus Kleinwallstadt: Ostring 112\, 63839 Kleinwallstadt
SEQUENCE:0
SUMMARY:FFW Klw: Jubiläumsfeier 150 Jahre 
UID:194631
URL:https://www.kleinwallstadt.de/vereine-freizeit-und-tourismus/veranstalt
 ungen/ffw-klw-jubilaeumsfeier-150-jahre/
END:VEVENT
END:VCALENDAR
