BEGIN:VCALENDAR
VERSION:2.0
PRODID:-//ddaysoftware.com//NONSGML DDay.iCal 1.0//EN
BEGIN:VTIMEZONE
TZID:W. Europe Standard Time
BEGIN:STANDARD
DTSTART:20251002T030000
RRULE:FREQ=YEARLY;BYDAY=-1SU;BYHOUR=3;BYMINUTE=0;BYMONTH=10
TZNAME:Mitteleuropäische Zeit
TZOFFSETFROM:+0200
TZOFFSETTO:+0100
END:STANDARD
BEGIN:DAYLIGHT
DTSTART:20250301T020000
RRULE:FREQ=YEARLY;BYDAY=-1SU;BYHOUR=2;BYMINUTE=0;BYMONTH=3
TZNAME:Mitteleuropäische Sommerzeit
TZOFFSETFROM:+0100
TZOFFSETTO:+0200
END:DAYLIGHT
END:VTIMEZONE
BEGIN:VEVENT
CATEGORIES:Fest\, Kulinarisches
CATEGORIES:Highlight
DESCRIPTION:\n\nVeranstalter: Musikverein Kleinwallstadt\n\nhttps://www.kle
 inwallstadt.de/vereine-freizeit-und-tourismus/veranstaltungen/musikverein-
 serenade-unter-dem-maibaum-2/
DTEND:20260430T170000
DTSTAMP:20260420T004402Z
DTSTART:20260430T160000
LOCATION:Freizeitgelände Ringstraße: Ringstraße\, 63839 Kleinwallstadt
SEQUENCE:0
SUMMARY:Musikverein: Serenade unter dem Maibaum
UID:198266
URL:https://www.kleinwallstadt.de/vereine-freizeit-und-tourismus/veranstalt
 ungen/musikverein-serenade-unter-dem-maibaum-2/
END:VEVENT
BEGIN:VEVENT
CATEGORIES:Zehntscheune
CATEGORIES:Musik\, Gesang\, Konzert
CATEGORIES:Highlight
DESCRIPTION:\n\nVeranstalter: Förderverein Kultur in der Zehntscheune e.V. 
 \n\nhttps://www.kleinwallstadt.de/vereine-freizeit-und-tourismus/veranstal
 tungen/foerderverein-wellano-lebst-aa-no-mit-andreas-wellano/
DTEND:20260508T203000
DTSTAMP:20260420T004402Z
DTSTART:20260508T193000
LOCATION:Zehntscheune Kleinwallstadt: Mittlere Torstraße 3\, 63839 Kleinwal
 lstadt
SEQUENCE:0
SUMMARY:Förderverein: Wellano! Lebst aa no? mit Andreas Wellano
UID:194628
URL:https://www.kleinwallstadt.de/vereine-freizeit-und-tourismus/veranstalt
 ungen/foerderverein-wellano-lebst-aa-no-mit-andreas-wellano/
END:VEVENT
BEGIN:VEVENT
CATEGORIES:Highlight
CATEGORIES:Brauchtum\, Museum
DESCRIPTION:\n\nVeranstalter: Freundeskreis Kleinwallstadt- St. Pierre en A
 uge  \n\nhttps://www.kleinwallstadt.de/vereine-freizeit-und-tourismus/vera
 nstaltungen/35-jahre-staedtepartnerschaft-mit-st-pierre-gaestebesuch/
DTEND:20260518T000000
DTSTAMP:20260420T004402Z
DTSTART;VALUE=DATE:20260514
SEQUENCE:0
SUMMARY:35 Jahre Städtepartnerschaft mit St.-Pierre: Gästebesuch
UID:197139
URL:https://www.kleinwallstadt.de/vereine-freizeit-und-tourismus/veranstalt
 ungen/35-jahre-staedtepartnerschaft-mit-st-pierre-gaestebesuch/
END:VEVENT
BEGIN:VEVENT
CATEGORIES:Highlight
CATEGORIES:Messe\, Markt
DESCRIPTION:\n\nVeranstalter: Markt Kleinwallstadt\n\nhttps://www.kleinwall
 stadt.de/vereine-freizeit-und-tourismus/veranstaltungen/herbstmarkt-5/
DTEND;VALUE=DATE:20260914
DTSTAMP:20260420T004402Z
DTSTART;VALUE=DATE:20260913
LOCATION:rund um den historischen Römer: Römer\, 63839 Kleinwallstadt
SEQUENCE:0
SUMMARY:Herbstmarkt
UID:198317
URL:https://www.kleinwallstadt.de/vereine-freizeit-und-tourismus/veranstalt
 ungen/herbstmarkt-5/
END:VEVENT
BEGIN:VEVENT
CATEGORIES:Musik\, Gesang\, Konzert
CATEGORIES:Highlight
DESCRIPTION:\n\nVeranstalter: DJK Kleinwallstadt\n\nhttps://www.kleinwallst
 adt.de/vereine-freizeit-und-tourismus/veranstaltungen/djk-70-jahre-open-ai
 r-mit-gegenlicht/
DTEND;VALUE=DATE:20260920
DTSTAMP:20260420T004402Z
DTSTART;VALUE=DATE:20260919
SEQUENCE:0
SUMMARY:DJK: 70 Jahre - Open Air mit "Gegenlicht" 
UID:198318
URL:https://www.kleinwallstadt.de/vereine-freizeit-und-tourismus/veranstalt
 ungen/djk-70-jahre-open-air-mit-gegenlicht/
END:VEVENT
BEGIN:VEVENT
CATEGORIES:Highlight
CATEGORIES:Musik\, Gesang\, Konzert
CATEGORIES:Zehntscheune
DESCRIPTION:\n\nVeranstalter: Förderverein Kultur in der Zehntscheune e.V. 
 \n\nhttps://www.kleinwallstadt.de/vereine-freizeit-und-tourismus/veranstal
 tungen/foerderverein-werner-schmidbauer-mia-san-oans/
DTEND:20260925T203000
DTSTAMP:20260420T004402Z
DTSTART:20260925T193000
LOCATION:Zehntscheune Kleinwallstadt: Mittlere Torstraße 3\, 63839 Kleinwal
 lstadt
SEQUENCE:0
SUMMARY:Förderverein: Werner Schmidbauer "Mia san Oans" 
UID:198319
URL:https://www.kleinwallstadt.de/vereine-freizeit-und-tourismus/veranstalt
 ungen/foerderverein-werner-schmidbauer-mia-san-oans/
END:VEVENT
BEGIN:VEVENT
CATEGORIES:Fest\, Kulinarisches
CATEGORIES:Highlight
DESCRIPTION:\n\nVeranstalter: KCV- Kleinwallstädter Carnevals Verein\n\nhtt
 ps://www.kleinwallstadt.de/vereine-freizeit-und-tourismus/veranstaltungen/
 kcv-oktoberfest/
DTEND:20261012T000000
DTSTAMP:20260420T004402Z
DTSTART;VALUE=DATE:20261010
LOCATION:Pfarrheim Kleinwallstadt: Kirchgasse 19\, 63839 Kleinwallstadt
SEQUENCE:0
SUMMARY:KCV: Oktoberfest
UID:198321
URL:https://www.kleinwallstadt.de/vereine-freizeit-und-tourismus/veranstalt
 ungen/kcv-oktoberfest/
END:VEVENT
BEGIN:VEVENT
CATEGORIES:Kabarett\, Theater
CATEGORIES:Zehntscheune
CATEGORIES:Highlight
DESCRIPTION:\n\nVeranstalter: Förderverein Kultur in der Zehntscheune e.V. 
 \n\nhttps://www.kleinwallstadt.de/vereine-freizeit-und-tourismus/veranstal
 tungen/foerderverein-mer-hebbe-doch-noch-uns-thomas-poppe/
DTEND:20261023T203000
DTSTAMP:20260420T004402Z
DTSTART:20261023T193000
LOCATION:Zehntscheune Kleinwallstadt: Mittlere Torstraße 3\, 63839 Kleinwal
 lstadt
SEQUENCE:0
SUMMARY:Förderverein: "Mer hebbe doch noch uns" Thomas Poppe
UID:198323
URL:https://www.kleinwallstadt.de/vereine-freizeit-und-tourismus/veranstalt
 ungen/foerderverein-mer-hebbe-doch-noch-uns-thomas-poppe/
END:VEVENT
BEGIN:VEVENT
CATEGORIES:Highlight
CATEGORIES:Messe\, Markt
CATEGORIES:Zehntscheune
DESCRIPTION:\n\nVeranstalter: Kindergarten Wolkenpurzler\n\nhttps://www.kle
 inwallstadt.de/vereine-freizeit-und-tourismus/veranstaltungen/kiga-wolkenp
 urzler-adventsbasar/
DTEND:20261121T150000
DTSTAMP:20260420T004402Z
DTSTART:20261121T140000
LOCATION:Zehntscheune Kleinwallstadt: Mittlere Torstraße 3\, 63839 Kleinwal
 lstadt
SEQUENCE:0
SUMMARY:Kiga Wolkenpurzler: Adventsbasar
UID:198324
URL:https://www.kleinwallstadt.de/vereine-freizeit-und-tourismus/veranstalt
 ungen/kiga-wolkenpurzler-adventsbasar/
END:VEVENT
BEGIN:VEVENT
CATEGORIES:Zehntscheune
CATEGORIES:Musik\, Gesang\, Konzert
CATEGORIES:Highlight
DESCRIPTION:\n\nVeranstalter: Förderverein Kultur in der Zehntscheune e.V. 
 \n\nhttps://www.kleinwallstadt.de/vereine-freizeit-und-tourismus/veranstal
 tungen/foerderverein-la-finesse-weihnachtsprogramm/
DTEND:20261128T203000
DTSTAMP:20260420T004402Z
DTSTART:20261128T193000
LOCATION:Zehntscheune Kleinwallstadt: Mittlere Torstraße 3\, 63839 Kleinwal
 lstadt
SEQUENCE:0
SUMMARY:Förderverein: La Finesse Weihnachtsprogramm
UID:198325
URL:https://www.kleinwallstadt.de/vereine-freizeit-und-tourismus/veranstalt
 ungen/foerderverein-la-finesse-weihnachtsprogramm/
END:VEVENT
BEGIN:VEVENT
CATEGORIES:Messe\, Markt
CATEGORIES:Highlight
CATEGORIES:Zehntscheune
DESCRIPTION:\n\nVeranstalter: Markt Kleinwallstadt\n\nhttps://www.kleinwall
 stadt.de/vereine-freizeit-und-tourismus/veranstaltungen/budenzauber-5/
DTEND:20261206T000000
DTSTAMP:20260420T004402Z
DTSTART;VALUE=DATE:20261205
LOCATION:rund um den historischen Römer: Römer\, 63839 Kleinwallstadt
SEQUENCE:0
SUMMARY:Budenzauber
UID:198326
URL:https://www.kleinwallstadt.de/vereine-freizeit-und-tourismus/veranstalt
 ungen/budenzauber-5/
END:VEVENT
END:VCALENDAR
